BEGIN:VCALENDAR
VERSION:2.0
PRODID:-//Maritzburg College - ECPv6.11.2.1//NONSGML v1.0//EN
CALSCALE:GREGORIAN
METHOD:PUBLISH
X-WR-CALNAME:Maritzburg College
X-ORIGINAL-URL:https://maritzburgcollege.co.za
X-WR-CALDESC:Events for Maritzburg College
REFRESH-INTERVAL;VALUE=DURATION:PT1H
X-Robots-Tag:noindex
X-PUBLISHED-TTL:PT1H
BEGIN:VTIMEZONE
TZID:UTC
BEGIN:STANDARD
TZOFFSETFROM:+0000
TZOFFSETTO:+0000
TZNAME:UTC
DTSTART:20260101T000000
END:STANDARD
END:VTIMEZONE
BEGIN:VEVENT
DTSTART;VALUE=DATE:20260328
DTEND;VALUE=DATE:20260401
DTSTAMP:20260420T095206
CREATED:20260306T072411Z
LAST-MODIFIED:20260404T145622Z
UID:23663-1774656000-1775001599@maritzburgcollege.co.za
SUMMARY:Skonk Nicholson U14 & U16 Rugby Festival
DESCRIPTION:It is a great pleasure for Maritzburg College to host the Skonk Nicholson Rugby Festival for U16 and U14 players\, and to welcome 20 teams from around the country\, and their supporters\, to our campus. \nWe sincerely hope that everyone who participate or spectate will enjoy all that is great in schoolboy sport\, viz. the camaraderie\, team-spirit\, passion\, commitment and sportsmanship. \nThese were all noble ideals fostered in his rugby teams over 35 seasons by the late Mr Nicholson himself – ones of which we today need to be more mindful than ever. \n  \n27-31 March 2026 \nFields: Goldstone’s and Snow’s \n  \nPROGRAMME\nRESULTS \nDay 1 – 28 March:\nU14 and U16 \nDay 2 – 30 March\nU14 and U16 \nFULL RESULTS (Days 1-3) \n  \nTeam Photos
URL:https://maritzburgcollege.co.za/event/skonk-nicholson-u14-u16-rugby-festival/
LOCATION:Maritzburg College\, 51 College Road\, Pietermartizburg
CATEGORIES:MC Events
ATTACH;FMTTYPE=image/png:https://maritzburgcollege.co.za/wp-content/uploads/2026/03/Skonk-Programme-2026.png
ORGANIZER;CN="Liam Smortfitt":MAILTO:smorfittl@mcollege.co.za
END:VEVENT
END:VCALENDAR